BEGIN:VCALENDAR
VERSION:2.0
PRODID:-//eventon.com NONSGML v1.0//EN
CALSCALE:GREGORIAN
METHOD:PUBLISH
BEGIN:VEVENT
UID:69e52e0799129
DTSTAMP:20260419T193327Z
DTSTART:20260403T000000Z
DTEND:20260403T235900Z
LOCATION:
SUMMARY:Goede vrijdag
DESCRIPTION:Goede vrijdag\nhttps://broeckland.nl/events/goede-vrijdag-en-pa
 sen/
URL:https://broeckland.nl/events/goede-vrijdag-en-pasen/
END:VEVENT
END:VCALENDAR