BEGIN:VCALENDAR
VERSION:2.0
PRODID:-//eventon.com NONSGML v1.0//EN
CALSCALE:GREGORIAN
METHOD:PUBLISH
BEGIN:VEVENT
UID:69ea551179327
DTSTAMP:20260423T172121Z
DTSTART:20240905T000000Z
DTEND:20240905T235900Z
LOCATION:
SUMMARY:Klas 1: ouderavond
DESCRIPTION:Aanvang: 18:30 Uitnodiging\nhttps://broeckland.nl/events/klas-1
 -ouderavond/
URL:https://broeckland.nl/events/klas-1-ouderavond/
END:VEVENT
END:VCALENDAR